BEGIN:VCALENDAR
VERSION:2.0
PRODID:-//Professional Audiobook Narrators Association - ECPv6.15.20//NONSGML v1.0//EN
CALSCALE:GREGORIAN
METHOD:PUBLISH
X-WR-CALNAME:Professional Audiobook Narrators Association
X-ORIGINAL-URL:https://pronarrators.org
X-WR-CALDESC:Events for Professional Audiobook Narrators Association
REFRESH-INTERVAL;VALUE=DURATION:PT1H
X-Robots-Tag:noindex
X-PUBLISHED-TTL:PT1H
BEGIN:VTIMEZONE
TZID:America/New_York
BEGIN:DAYLIGHT
TZOFFSETFROM:-0500
TZOFFSETTO:-0400
TZNAME:EDT
DTSTART:20250309T070000
END:DAYLIGHT
BEGIN:STANDARD
TZOFFSETFROM:-0400
TZOFFSETTO:-0500
TZNAME:EST
DTSTART:20251102T060000
END:STANDARD
BEGIN:DAYLIGHT
TZOFFSETFROM:-0500
TZOFFSETTO:-0400
TZNAME:EDT
DTSTART:20260308T070000
END:DAYLIGHT
BEGIN:STANDARD
TZOFFSETFROM:-0400
TZOFFSETTO:-0500
TZNAME:EST
DTSTART:20261101T060000
END:STANDARD
BEGIN:DAYLIGHT
TZOFFSETFROM:-0500
TZOFFSETTO:-0400
TZNAME:EDT
DTSTART:20270314T070000
END:DAYLIGHT
BEGIN:STANDARD
TZOFFSETFROM:-0400
TZOFFSETTO:-0500
TZNAME:EST
DTSTART:20271107T060000
END:STANDARD
END:VTIMEZONE
BEGIN:VEVENT
DTSTART;TZID=America/New_York:20260422T160000
DTEND;TZID=America/New_York:20260422T170000
DTSTAMP:20260424T044413
CREATED:20260330T145744Z
LAST-MODIFIED:20260330T170806Z
UID:10000145-1776873600-1776877200@pronarrators.org
SUMMARY:PANArama with a Producer - Zane Birdwell
DESCRIPTION:Wednesday\, April 22nd • Free to members\n4:00 pm ET (New York)\n1:00 pm PT (Los Angeles)\n9:00 pm BST (London)\n\nPANA members are invited to join Hillary Huber in a relaxed conversation with Zane Birdwell of John Marshall Media (JMM) about getting cast in audiobooks. After a little conversation\, three narrators from varying levels\, and selected via lottery\, will have the opportunity to read a short excerpt and receive feedback from the producer on how to strengthen their read. This series is presented several times per year and aims to educate and encourage PANA narrators. This event runs for 60 minutes. \nYou must be a member of PANA to join this event.\nPANA members need to log in to their account on the website to register for the event. \nClick here to sign up for the lottery to be a reader for this event. \nYou must RSVP for the event before entering the lottery.\nThe lottery will be drawn on Friday\, April 17th. Those selected to read will be notified via email no later than Monday\, April 20th.
URL:https://pronarrators.org/event/panarama-with-a-producer-zane-birdwell/
LOCATION:https://pronarrators.org/event/panarama-with-a-producer-zane-birdwell/
END:VEVENT
END:VCALENDAR